BEGIN:VCALENDAR
VERSION:2.0
PRODID:-//Johnny H Adventures
CALSCALE:GREGORIAN
METHOD:PUBLISH
X-WR-CALNAME:Johnny H Adventures
X-ORIGINAL-URL:https://www.johnnyh.com.au/products/jpso-christmas-in-july-20-07-24/
X-WR-CALDESC:JPSO: Christmas in July Party! (20.07.24)
BEGIN:VEVENT
DTSTART;TZID=Australia/Melbourne:20240720T160000
DTEND;TZID=Australia/Melbourne:20240720T210000
SUMMARY:JPSO: Christmas in July Party! (20.07.24)
DESCRIPTION:Christmas in July Party! Celebrate Christmas in July at Johnny H! Join us for a festive evening filled with music, delicious food, exciting games, and dancing. Embrace the holiday spirit and come dressed to suit the theme for a night of merriment and joy. Don't miss out on this magical mid-year celebration!
URL:https://www.johnnyh.com.au/products/jpso-christmas-in-july-20-07-24/
LOCATION:
END:VEVENT
END:VCALENDAR
