BEGIN:VCALENDAR
VERSION:2.0
PRODID:-//Johnny H Adventures
CALSCALE:GREGORIAN
METHOD:PUBLISH
X-WR-CALNAME:Johnny H Adventures
X-ORIGINAL-URL:https://www.johnnyh.com.au/products/jhjp-term-3-life-skills-day-program-tuesdays-09-07-24-09-24/
X-WR-CALDESC:JHJP: Term 3 Life Skills Day Program Tuesdays 9am-4pm (09.07-24.09.24)
BEGIN:VEVENT
DTSTART;TZID=Australia/Melbourne:20240924T090000
DTEND;TZID=Australia/Melbourne:20240924T160000
SUMMARY:JHJP: Term 3 Life Skills Day Program Tuesdays 9am-4pm (09.07-24.09.24)
DESCRIPTION:Term 3 Life Skills Day Program: Tuesdays Bookings are now open for Tuesdays in our Life Skills Day Program for Term 3. On Tuesday mornings, participants join the Grind to Ground crew at CIT Bruce, engaging in a variety of gardening and sustainability activities such as mixing soil, bagging compost, watering plants, and general gardening tasks. In the afternoon, we walk to Hybrid Gym for a group fitness session with PT Clint, then return to Johnny's Place to explore health and wellbeing and engage in creative activities. Class size is limited - book your spot now!
URL:https://www.johnnyh.com.au/products/jhjp-term-3-life-skills-day-program-tuesdays-09-07-24-09-24/
LOCATION:
END:VEVENT
END:VCALENDAR
