BEGIN:VCALENDAR
VERSION:2.0
PRODID:-//Johnny H Adventures
CALSCALE:GREGORIAN
METHOD:PUBLISH
X-WR-CALNAME:Johnny H Adventures
X-ORIGINAL-URL:https://www.johnnyh.com.au/products/jhda-christmas-in-july-28-07-24/
X-WR-CALDESC:JHDA: Christmas in July Festival (28.07.24)
BEGIN:VEVENT
DTSTART;TZID=Australia/Melbourne:20240728T120000
DTEND;TZID=Australia/Melbourne:20240728T170000
SUMMARY:JHDA: Christmas in July Festival (28.07.24)
DESCRIPTION:Christmas in July Festival Join us for an enchanting evening at Canberra's Christmas in July Festival, where the magic of the festive season comes alive with dazzling lights, delicious food, and heartwarming entertainment. Enjoy a winter wonderland experience with friends, making it a night to remember.
URL:https://www.johnnyh.com.au/products/jhda-christmas-in-july-28-07-24/
LOCATION:
END:VEVENT
END:VCALENDAR
