BEGIN:VCALENDAR
VERSION:2.0
PRODID:-//Johnny H Adventures
CALSCALE:GREGORIAN
METHOD:PUBLISH
X-WR-CALNAME:Johnny H Adventures
X-ORIGINAL-URL:https://www.johnnyh.com.au/products/jhda-fishing-and-bbq-28-07-24/
X-WR-CALDESC:JHDA: Nerang River Fishing and BBQ (28.07.24)
BEGIN:VEVENT
DTSTART;TZID=Australia/Melbourne:20240728T090000
DTEND;TZID=Australia/Melbourne:20240728T140000
SUMMARY:JHDA: Nerang River Fishing and BBQ (28.07.24)
DESCRIPTION:Nerang River Fishing and BBQ Join us for a relaxing day out fishing and enjoying a BBQ at Platell Park in Broadbeach Waters. Nestled amidst shady trees and with park facilities nearby, it's the perfect setting for a leisurely day by the water.
URL:https://www.johnnyh.com.au/products/jhda-fishing-and-bbq-28-07-24/
LOCATION:
END:VEVENT
END:VCALENDAR
