BEGIN:VCALENDAR
VERSION:2.0
PRODID:-//Johnny H Adventures
CALSCALE:GREGORIAN
METHOD:PUBLISH
X-WR-CALNAME:Johnny H Adventures
X-ORIGINAL-URL:https://www.johnnyh.com.au/products/jhda-springbrook-21-07-24/
X-WR-CALDESC:JHDA: Springbrook Waterfalls and Rainforest Wonders (21.07.24)
BEGIN:VEVENT
DTSTART;TZID=Australia/Melbourne:20240721T090000
DTEND;TZID=Australia/Melbourne:20240721T140000
SUMMARY:JHDA: Springbrook Waterfalls and Rainforest Wonders (21.07.24)
DESCRIPTION:Springbrook Waterfalls and Rainforest Wonders Embark on a refreshing day out exploring Natural Bridge and Springbrook Waterfalls, immersing yourself in the natural beauty of these iconic Gold Coast locations. This adventure promises scenic nature walks and a delightful lunch, creating a perfect blend of relaxation and exploration in the great outdoors.
URL:https://www.johnnyh.com.au/products/jhda-springbrook-21-07-24/
LOCATION:
END:VEVENT
END:VCALENDAR
