BEGIN:VCALENDAR
VERSION:2.0
PRODID:-//Johnny H Adventures
CALSCALE:GREGORIAN
METHOD:PUBLISH
X-WR-CALNAME:Johnny H Adventures
X-ORIGINAL-URL:https://www.johnnyh.com.au/products/jhon-central-coast-getaway-01-03-11-24/
X-WR-CALDESC:JHON: Central Coast Getaway: Warners Bay &#038; Lake Macquarie (01.11-03.11.24)
BEGIN:VEVENT
DTSTART;TZID=Australia/Melbourne:20241101T090000
DTEND;TZID=Australia/Melbourne:20241103T170000
SUMMARY:JHON: Central Coast Getaway: Warners Bay & Lake Macquarie (01.11-03.11.24)
DESCRIPTION:Central Coast Getaway: Warners Bay &amp; Lake Macquarie Join us for an unforgettable weekend away to Warners Bay, where we'll stay at an amazing house right on the shores of Lake Macquarie. With a huge deck and beautiful grounds to explore, this getaway promises relaxation, fun, and adventure. One of the highlights of the weekend is the optional camel ride on the beach, offering a unique and memorable experience.
URL:https://www.johnnyh.com.au/products/jhon-central-coast-getaway-01-03-11-24/
LOCATION:
END:VEVENT
END:VCALENDAR
