BEGIN:VCALENDAR
VERSION:2.0
PRODID:-//Johnny H Adventures
CALSCALE:GREGORIAN
METHOD:PUBLISH
X-WR-CALNAME:Johnny H Adventures
X-ORIGINAL-URL:https://www.johnnyh.com.au/products/jhile-lads-independent-living-experience-02-04-08-24/
X-WR-CALDESC:JHILE: Lads Independent Living Experience (02-04.08.24)
BEGIN:VEVENT
DTSTART;TZID=Australia/Melbourne:20240802T120000
DTEND;TZID=Australia/Melbourne:20240804T170000
SUMMARY:JHILE: Lads Independent Living Experience (02-04.08.24)
DESCRIPTION:Lads Independent Living Experience: 2-4 August 2024 The lads are invited to join Johnny H for an Independent Living Experiences. An ILE is a short trip away in a small group where we build the skills, confidence and motivation needed to be self-sufficient in our daily lives. Based at The Farm on Farrells Lane, our small group will work through a checklist of activities and tasks designed to build independence within a safe and encouraging environment over three days away.
URL:https://www.johnnyh.com.au/products/jhile-lads-independent-living-experience-02-04-08-24/
LOCATION:
END:VEVENT
END:VCALENDAR
