BEGIN:VCALENDAR
VERSION:2.0
PRODID:-//Johnny H Adventures
CALSCALE:GREGORIAN
METHOD:PUBLISH
X-WR-CALNAME:Johnny H Adventures
X-ORIGINAL-URL:https://www.johnnyh.com.au/products/jhsa-movies-deadpool-wolverine-02-08-24/
X-WR-CALDESC:JHSA: Super Hero Double Header: Deadpool &#038; Wolverine (02.08.24)
BEGIN:VEVENT
DTSTART;TZID=Australia/Melbourne:20240802T170000
DTEND;TZID=Australia/Melbourne:20240802T210000
SUMMARY:JHSA: Super Hero Double Header: Deadpool & Wolverine (02.08.24)
DESCRIPTION:Super Hero Double Header: Deadpool &amp; Wolverine Join us for an exciting night out at the cinema, where we'll be watching the action-packed films Deadpool and Wolverine. Experience a thrilling evening filled with superhero antics, laughter, and great company.
URL:https://www.johnnyh.com.au/products/jhsa-movies-deadpool-wolverine-02-08-24/
LOCATION:
END:VEVENT
END:VCALENDAR
