BEGIN:VCALENDAR
VERSION:2.0
PRODID:-//Johnny H Adventures
CALSCALE:GREGORIAN
METHOD:PUBLISH
X-WR-CALNAME:Johnny H Adventures
X-ORIGINAL-URL:https://www.johnnyh.com.au/products/jhda-monster-trucks-glow-party-03-08-24/
X-WR-CALDESC:JHDA: Hot Wheels Monster Trucks Glow Party (03.08.24)
BEGIN:VEVENT
DTSTART;TZID=Australia/Melbourne:20240803T090000
DTEND;TZID=Australia/Melbourne:20240803T150000
SUMMARY:JHDA: Hot Wheels Monster Trucks Glow Party (03.08.24)
DESCRIPTION:Hot Wheels Monster Trucks Glow Party Join us for an electrifying day out at the Hot Wheels Monster Trucks Glow Party at Sydney Olympic Park. Dive into a world of larger-than-life monster trucks, dazzling light shows, and family-friendly excitement.
URL:https://www.johnnyh.com.au/products/jhda-monster-trucks-glow-party-03-08-24/
LOCATION:
END:VEVENT
END:VCALENDAR
