BEGIN:VCALENDAR
VERSION:2.0
PRODID:-//Johnny H Adventures
CALSCALE:GREGORIAN
METHOD:PUBLISH
X-WR-CALNAME:Johnny H Adventures
X-ORIGINAL-URL:https://www.johnnyh.com.au/products/jhsa-live-nrl-panthers-v-knights-04-08-24/
X-WR-CALDESC:JHSA: Live NRL: Panthers v Knights (04.08.24)
BEGIN:VEVENT
DTSTART;TZID=Australia/Melbourne:20240804T120000
DTEND;TZID=Australia/Melbourne:20240804T170000
SUMMARY:JHSA: Live NRL: Panthers v Knights (04.08.24)
DESCRIPTION:Live NRL: Penrith Panthers vs Newcastle Knights Join us for an exhilarating Sunday afternoon watching live NRL action as the Penrith Panthers take on the Newcastle Knights at Panthers Stadium. Experience the thrill of the game in an electric atmosphere.
URL:https://www.johnnyh.com.au/products/jhsa-live-nrl-panthers-v-knights-04-08-24/
LOCATION:
END:VEVENT
END:VCALENDAR
