BEGIN:VCALENDAR
VERSION:2.0
PRODID:-//Johnny H Adventures
CALSCALE:GREGORIAN
METHOD:PUBLISH
X-WR-CALNAME:Johnny H Adventures
X-ORIGINAL-URL:https://www.johnnyh.com.au/products/jpso-art-workshop-under-the-sea-17-08-24/
X-WR-CALDESC:JPSO: Brody&#8217;s Art Workshop: Under the Sea (17.08.24)
BEGIN:VEVENT
DTSTART;TZID=Australia/Melbourne:20240817T100000
DTEND;TZID=Australia/Melbourne:20240817T150000
SUMMARY:JPSO: Brody’s Art Workshop: Under the Sea (17.08.24)
DESCRIPTION:Brody's Art Workshop: Under the Sea Dive into creativity with an exciting art workshop led by Brody, themed "Under the Sea." Join us for an inspiring session where imagination meets artistic expression in a relaxed and supportive environment.
URL:https://www.johnnyh.com.au/products/jpso-art-workshop-under-the-sea-17-08-24/
LOCATION:
END:VEVENT
END:VCALENDAR
