BEGIN:VCALENDAR
VERSION:2.0
PRODID:-//Johnny H Adventures
CALSCALE:GREGORIAN
METHOD:PUBLISH
X-WR-CALNAME:Johnny H Adventures
X-ORIGINAL-URL:https://www.johnnyh.com.au/products/jhsa-round-8-league-bowling-championship-17-08-24/
X-WR-CALDESC:JHSA: Round 8 League Bowling Championship (17.08.24)
BEGIN:VEVENT
DTSTART;TZID=Australia/Melbourne:20240817T150000
DTEND;TZID=Australia/Melbourne:20240817T200000
SUMMARY:JHSA: Round 8 League Bowling Championship (17.08.24)
DESCRIPTION:Round 8 Bowling Championship Join us for Round 8 of the Johnny H League Bowling Championship! This thrilling bowling event combines individual skill, strategic play, and the pursuit of the coveted Johnny H Regional Championship Award.
URL:https://www.johnnyh.com.au/products/jhsa-round-8-league-bowling-championship-17-08-24/
LOCATION:
END:VEVENT
END:VCALENDAR
