BEGIN:VCALENDAR
VERSION:2.0
PRODID:-//Johnny H Adventures
CALSCALE:GREGORIAN
METHOD:PUBLISH
X-WR-CALNAME:Johnny H Adventures
X-ORIGINAL-URL:https://www.johnnyh.com.au/products/jhda-penrith-show-24-08-24/
X-WR-CALDESC:JHDA: Penrith Show (24.08.24)
BEGIN:VEVENT
DTSTART;TZID=Australia/Melbourne:20240824T100000
DTEND;TZID=Australia/Melbourne:20240824T180000
SUMMARY:JHDA: Penrith Show (24.08.24)
DESCRIPTION:Penrith Show Embark on an exciting Saturday outing at the Penrith Show, a beloved community event filled with entertainment, exhibits, and family-friendly activities. Explore a variety of attractions and enjoy a day of fun and festivities in Penrith.
URL:https://www.johnnyh.com.au/products/jhda-penrith-show-24-08-24/
LOCATION:
END:VEVENT
END:VCALENDAR
