BEGIN:VCALENDAR
VERSION:2.0
PRODID:-//Johnny H Adventures
CALSCALE:GREGORIAN
METHOD:PUBLISH
X-WR-CALNAME:Johnny H Adventures
X-ORIGINAL-URL:https://www.johnnyh.com.au/products/jhda-cherry-blossom-festival-25-08-24/
X-WR-CALDESC:JHDA: Cherry Blossom Festival (25.08.24)
BEGIN:VEVENT
DTSTART;TZID=Australia/Melbourne:20240825T090000
DTEND;TZID=Australia/Melbourne:20240825T170000
SUMMARY:JHDA: Cherry Blossom Festival (25.08.24)
DESCRIPTION:Cherry Blossom Festival Enjoy a delightful Sunday outing at the Sydney Cherry Blossom Festival, a celebration of spring's beauty with stunning displays of cherry blossoms in full bloom. Join us for a day filled with cultural performances, art exhibitions, and scenic walks amidst the blossoms.
URL:https://www.johnnyh.com.au/products/jhda-cherry-blossom-festival-25-08-24/
LOCATION:
END:VEVENT
END:VCALENDAR
