BEGIN:VCALENDAR
VERSION:2.0
PRODID:-//Johnny H Adventures
CALSCALE:GREGORIAN
METHOD:PUBLISH
X-WR-CALNAME:Johnny H Adventures
X-ORIGINAL-URL:https://www.johnnyh.com.au/products/jhsa-friday-night-social-group-twilight-mini-golf-and-miami-marketta-02-08-24/
X-WR-CALDESC:JHSA: Friday Night Social Group: Twilight Mini Golf and Miami Marketta (02.08.24)
BEGIN:VEVENT
DTSTART;TZID=Australia/Melbourne:20240802T160000
DTEND;TZID=Australia/Melbourne:20240802T210000
SUMMARY:JHSA: Friday Night Social Group: Twilight Mini Golf and Miami Marketta (02.08.24)
DESCRIPTION:Friday Night Social Group: Twilight Mini Golf and Miami Marketta Join us for an enjoyable Friday night out featuring a lively game of putt putt golf followed by a delightful dinner at Miami Marketta. This event is perfect for those looking to have fun, make new friends, and unwind at the end of the week.
URL:https://www.johnnyh.com.au/products/jhsa-friday-night-social-group-twilight-mini-golf-and-miami-marketta-02-08-24/
LOCATION:
END:VEVENT
END:VCALENDAR
