BEGIN:VCALENDAR
VERSION:2.0
PRODID:-//Johnny H Adventures
CALSCALE:GREGORIAN
METHOD:PUBLISH
X-WR-CALNAME:Johnny H Adventures
X-ORIGINAL-URL:https://www.johnnyh.com.au/products/jhsa-live-nrl-titans-v-broncos-03-08-24/
X-WR-CALDESC:JHSA: Live NRL: Titans v Broncos at Cbus Stadium (03.08.24)
BEGIN:VEVENT
DTSTART;TZID=Australia/Melbourne:20240803T150000
DTEND;TZID=Australia/Melbourne:20240803T200000
SUMMARY:JHSA: Live NRL: Titans v Broncos at Cbus Stadium (03.08.24)
DESCRIPTION:Live NRL: Gold Coast Titans vs Brisbane Broncos Experience the excitement of a thrilling evening as the Gold Coast Titans clash with the Brisbane Broncos at Cbus Super Stadium. Witness the passion and skill of these NRL giants in action under the starlit Gold Coast sky.
URL:https://www.johnnyh.com.au/products/jhsa-live-nrl-titans-v-broncos-03-08-24/
LOCATION:
END:VEVENT
END:VCALENDAR
