BEGIN:VCALENDAR
VERSION:2.0
PRODID:-//Johnny H Adventures
CALSCALE:GREGORIAN
METHOD:PUBLISH
X-WR-CALNAME:Johnny H Adventures
X-ORIGINAL-URL:https://www.johnnyh.com.au/products/jhda-tamborine-mountain-car-show-04-08-24/
X-WR-CALDESC:JHDA: Tamborine Mountain Car Show (04.08.24)
BEGIN:VEVENT
DTSTART;TZID=Australia/Melbourne:20240804T080000
DTEND;TZID=Australia/Melbourne:20240804T160000
SUMMARY:JHDA: Tamborine Mountain Car Show (04.08.24)
DESCRIPTION:Tamborine Mountain Car Show 2024 Join us for a spectacular Sunday outing at the Tamborine Mountain Car Show 2024, a celebration of automotive beauty nestled in the scenic backdrop of Tamborine Mountain. Immerse yourself in the allure of classic and vintage cars amidst the charming atmosphere of this renowned event.
URL:https://www.johnnyh.com.au/products/jhda-tamborine-mountain-car-show-04-08-24/
LOCATION:
END:VEVENT
END:VCALENDAR
