BEGIN:VCALENDAR
VERSION:2.0
PRODID:-//Johnny H Adventures
CALSCALE:GREGORIAN
METHOD:PUBLISH
X-WR-CALNAME:Johnny H Adventures
X-ORIGINAL-URL:https://www.johnnyh.com.au/products/jhsa-friday-night-social-group-movies-and-dinner-09-08-24/
X-WR-CALDESC:JHSA: Friday Night Social Group: Movies and Dinner (09.08.24)
BEGIN:VEVENT
DTSTART;TZID=Australia/Melbourne:20240809T160000
DTEND;TZID=Australia/Melbourne:20240809T210000
SUMMARY:JHSA: Friday Night Social Group: Movies and Dinner (09.08.24)
DESCRIPTION:Friday Night Social Group: Movies and Dinner Join us for an enjoyable Friday night out with a movie and dinner, combining entertainment and delicious cuisine for a perfect social experience.
URL:https://www.johnnyh.com.au/products/jhsa-friday-night-social-group-movies-and-dinner-09-08-24/
LOCATION:
END:VEVENT
END:VCALENDAR
