BEGIN:VCALENDAR
VERSION:2.0
PRODID:-//Johnny H Adventures
CALSCALE:GREGORIAN
METHOD:PUBLISH
X-WR-CALNAME:Johnny H Adventures
X-ORIGINAL-URL:https://www.johnnyh.com.au/products/jhda-pacific-arishow-17-08-24/
X-WR-CALDESC:JHDA: Pacific Air Show (17.08.24)
BEGIN:VEVENT
DTSTART;TZID=Australia/Melbourne:20240817T080000
DTEND;TZID=Australia/Melbourne:20240817T160000
SUMMARY:JHDA: Pacific Air Show (17.08.24)
DESCRIPTION:Pacific Air Show Experience the thrill of the Pacific Air Show, an exhilarating event showcasing aerial displays and performances that will leave you in awe. Held at a stunning location, this show promises a day filled with aviation excitement against the backdrop of the Pacific Ocean.
URL:https://www.johnnyh.com.au/products/jhda-pacific-arishow-17-08-24/
LOCATION:
END:VEVENT
END:VCALENDAR
