BEGIN:VCALENDAR
VERSION:2.0
PRODID:-//Johnny H Adventures
CALSCALE:GREGORIAN
METHOD:PUBLISH
X-WR-CALNAME:Johnny H Adventures
X-ORIGINAL-URL:https://www.johnnyh.com.au/products/jhda-tamborine-rodeo-17-08-24/
X-WR-CALDESC:JHDA: Tamborine Rodeo (17.08.24)
BEGIN:VEVENT
DTSTART;TZID=Australia/Melbourne:20240817T140000
DTEND;TZID=Australia/Melbourne:20240817T220000
SUMMARY:JHDA: Tamborine Rodeo (17.08.24)
DESCRIPTION:Tamborine Rodeo Get ready for an action-packed day at the Tamborine All Round Rodeo, where adrenaline meets cowboy spirit in a thrilling showcase of rodeo events. Held against the picturesque backdrop of Tamborine Mountain, this event promises excitement, entertainment, and fun within a fun group.
URL:https://www.johnnyh.com.au/products/jhda-tamborine-rodeo-17-08-24/
LOCATION:
END:VEVENT
END:VCALENDAR
