BEGIN:VCALENDAR
VERSION:2.0
PRODID:-//Johnny H Adventures
CALSCALE:GREGORIAN
METHOD:PUBLISH
X-WR-CALNAME:Johnny H Adventures
X-ORIGINAL-URL:https://www.johnnyh.com.au/products/jhsa-social-bowling-dinner-25-08-24/
X-WR-CALDESC:JHSA: Social Bowling and Dinner (25.08.24)
BEGIN:VEVENT
DTSTART;TZID=Australia/Melbourne:20240825T130000
DTEND;TZID=Australia/Melbourne:20240825T180000
SUMMARY:JHSA: Social Bowling and Dinner (25.08.24)
DESCRIPTION:Sunday Social Bowling and Dinner Join us for an exciting Sunday social outing at Zone Bowling Robina, where we'll start the evening with some friendly competition on the lanes followed by a delicious dinner together.
URL:https://www.johnnyh.com.au/products/jhsa-social-bowling-dinner-25-08-24/
LOCATION:
END:VEVENT
END:VCALENDAR
