BEGIN:VCALENDAR
VERSION:2.0
PRODID:-//Johnny H Adventures
CALSCALE:GREGORIAN
METHOD:PUBLISH
X-WR-CALNAME:Johnny H Adventures
X-ORIGINAL-URL:https://www.johnnyh.com.au/products/jhda-canungra-show-24-078-24/
X-WR-CALDESC:JHDA: Canungra Show Day (24.08.24)
BEGIN:VEVENT
DTSTART;TZID=Australia/Melbourne:20240824T090000
DTEND;TZID=Australia/Melbourne:20240824T140000
SUMMARY:JHDA: Canungra Show Day (24.08.24)
DESCRIPTION:Canungra Show  Celebrate the vibrant community spirit at the Canungra Show Day, a cherished event hosted by the Canungra Show Society. Join locals and visitors alike for a day filled with agricultural displays, entertainment, and family-friendly activities in the heart of Canungra.
URL:https://www.johnnyh.com.au/products/jhda-canungra-show-24-078-24/
LOCATION:
END:VEVENT
END:VCALENDAR
