BEGIN:VCALENDAR
VERSION:2.0
PRODID:-//Johnny H Adventures
CALSCALE:GREGORIAN
METHOD:PUBLISH
X-WR-CALNAME:Johnny H Adventures
X-ORIGINAL-URL:https://www.johnnyh.com.au/products/jpso-come-and-cook-lasagne-28-07-24/
X-WR-CALDESC:JPSO: Come and Cook: Lasagne for Home (28.07.24)
BEGIN:VEVENT
DTSTART;TZID=Australia/Melbourne:20240728T120000
DTEND;TZID=Australia/Melbourne:20240728T170000
SUMMARY:JPSO: Come and Cook: Lasagne for Home (28.07.24)
DESCRIPTION:Come and Cook Lasagne Dive into culinary creativity with an exciting Come and Cook workshop focused on making lasagne this Sunday. Join us for an inspiring session where culinary skills meet delicious flavours in a relaxed and supportive environment, and take home a lasagne for your family dinner.
URL:https://www.johnnyh.com.au/products/jpso-come-and-cook-lasagne-28-07-24/
LOCATION:
END:VEVENT
END:VCALENDAR
