BEGIN:VCALENDAR
VERSION:2.0
PRODID:-//Johnny H Adventures
CALSCALE:GREGORIAN
METHOD:PUBLISH
X-WR-CALNAME:Johnny H Adventures
X-ORIGINAL-URL:https://www.johnnyh.com.au/products/jpso-come-and-cook-sunday-roast-04-08-24/
X-WR-CALDESC:JPSO: Come and Cook: Sunday Roast + Dessert! (04.08.24)
BEGIN:VEVENT
DTSTART;TZID=Australia/Melbourne:20240804T100000
DTEND;TZID=Australia/Melbourne:20240804T160000
SUMMARY:JPSO: Come and Cook: Sunday Roast + Dessert! (04.08.24)
DESCRIPTION:Come and Cook Sunday Roast + Dessert! Join us for a delightful Sunday 'Come and Cook' session, where you'll learn to prepare a classic Sunday roast with all the trimmings. This hands-on experience is perfect for those looking to enhance their cooking skills and enjoy a social, fun-filled afternoon.
URL:https://www.johnnyh.com.au/products/jpso-come-and-cook-sunday-roast-04-08-24/
LOCATION:
END:VEVENT
END:VCALENDAR
