BEGIN:VCALENDAR
VERSION:2.0
PRODID:-//Johnny H Adventures
CALSCALE:GREGORIAN
METHOD:PUBLISH
X-WR-CALNAME:Johnny H Adventures
X-ORIGINAL-URL:https://www.johnnyh.com.au/products/jhsa-bowling-clients-v-staff-16-08-24/
X-WR-CALDESC:JHSA: Bowling: Clients v Staff! (16.08.24)
BEGIN:VEVENT
DTSTART;TZID=Australia/Melbourne:20240816T170000
DTEND;TZID=Australia/Melbourne:20240816T210000
SUMMARY:JHSA: Bowling: Clients v Staff! (16.08.24)
DESCRIPTION:Bowling: Staff v Clients  Join us for a fun Friday evening out as Johnny H staff verse clients in a bowling showdown, where camaraderie and friendly competition come together for a fun-filled evening!
URL:https://www.johnnyh.com.au/products/jhsa-bowling-clients-v-staff-16-08-24/
LOCATION:
END:VEVENT
END:VCALENDAR
