BEGIN:VCALENDAR
VERSION:2.0
PRODID:-//Johnny H Adventures
CALSCALE:GREGORIAN
METHOD:PUBLISH
X-WR-CALNAME:Johnny H Adventures
X-ORIGINAL-URL:https://www.johnnyh.com.au/products/jpso-games-night-at-johnnys-place-23-08-24/
X-WR-CALDESC:JPSO: Games Night at Johnny&#8217;s Place (23.08.24)
BEGIN:VEVENT
DTSTART;TZID=Australia/Melbourne:20240823T170000
DTEND;TZID=Australia/Melbourne:20240823T210000
SUMMARY:JPSO: Games Night at Johnny’s Place (23.08.24)
DESCRIPTION:Games Night at Johnny's Place Join us for a lively Friday games night social gathering at Johnny's Place, where you'll enjoy an evening of board games, PS4 games, and friendly competition. 
URL:https://www.johnnyh.com.au/products/jpso-games-night-at-johnnys-place-23-08-24/
LOCATION:
END:VEVENT
END:VCALENDAR
