BEGIN:VCALENDAR
VERSION:2.0
PRODID:-//Johnny H Adventures
CALSCALE:GREGORIAN
METHOD:PUBLISH
X-WR-CALNAME:Johnny H Adventures
X-ORIGINAL-URL:https://www.johnnyh.com.au/products/jhsa-nrl-raiders-panthers-24-08-24/
X-WR-CALDESC:JHSA: Live NRL Raiders v Panthers (24.08.24)
BEGIN:VEVENT
DTSTART;TZID=Australia/Melbourne:20240824T133000
DTEND;TZID=Australia/Melbourne:20240824T183000
SUMMARY:JHSA: Live NRL Raiders v Panthers (24.08.24)
DESCRIPTION:Live NRL Raiders v Panthers Join us for an exciting Saturday outing to watch the live NRL match between Canberra Raiders and Penrith Panthers. We'll play host to our Johnny H friends from Penrith, who are visiting Canberra for the weekend. After the match, we'll head back to Johnny's Place to enjoy dinner together.
URL:https://www.johnnyh.com.au/products/jhsa-nrl-raiders-panthers-24-08-24/
LOCATION:
END:VEVENT
END:VCALENDAR
