BEGIN:VCALENDAR
VERSION:2.0
PRODID:-//Johnny H Adventures
CALSCALE:GREGORIAN
METHOD:PUBLISH
X-WR-CALNAME:Johnny H Adventures
X-ORIGINAL-URL:https://www.johnnyh.com.au/products/jhda-soup-and-art-03-08-24/
X-WR-CALDESC:JHDA: Soup and Art to Warm the Heart (03.08.24)
BEGIN:VEVENT
DTSTART;TZID=Australia/Melbourne:20240803T100000
DTEND;TZID=Australia/Melbourne:20240803T150000
SUMMARY:JHDA: Soup and Art to Warm the Heart (03.08.24)
DESCRIPTION:Soup and Art to Warm the Heart   Join us for a heartwarming Saturday outing where we will prepare a delicious soup at Johnny's Place, then head out to the National Arboretum to draw scenic views before returning to the centre for painting, crafting, and a warm lunch.
URL:https://www.johnnyh.com.au/products/jhda-soup-and-art-03-08-24/
LOCATION:
END:VEVENT
END:VCALENDAR
