BEGIN:VCALENDAR
VERSION:2.0
PRODID:-//Johnny H Adventures
CALSCALE:GREGORIAN
METHOD:PUBLISH
X-WR-CALNAME:Johnny H Adventures
X-ORIGINAL-URL:https://www.johnnyh.com.au/products/jhsa-catch-up-round-league-bowling-championship-19-10-24/
X-WR-CALDESC:JHSA: Catch-Up Round &#8211; League Bowling Championship (19.10.24)
BEGIN:VEVENT
DTSTART;TZID=Australia/Melbourne:20241019T150000
DTEND;TZID=Australia/Melbourne:20241019T200000
SUMMARY:JHSA: Catch-Up Round – League Bowling Championship (19.10.24)
DESCRIPTION:Catch-Up Round - League Bowling Championship Join us for a catch-up round towards the Johnny H League Bowling Championship! This thrilling bowling event combines individual skill, strategic play, and the pursuit of the coveted Johnny H Regional Championship Award.
URL:https://www.johnnyh.com.au/products/jhsa-catch-up-round-league-bowling-championship-19-10-24/
LOCATION:
END:VEVENT
END:VCALENDAR
