BEGIN:VCALENDAR
VERSION:2.0
PRODID:-//Johnny H Adventures
CALSCALE:GREGORIAN
METHOD:PUBLISH
X-WR-CALNAME:Johnny H Adventures
X-ORIGINAL-URL:https://www.johnnyh.com.au/products/jhso-movie-and-tv-show-trivia-18-10-24/
X-WR-CALDESC:JHSO: Movie and TV Show Trivia (18-10-24)
BEGIN:VEVENT
DTSTART;TZID=Australia/Melbourne:20241018T170000
DTEND;TZID=Australia/Melbourne:20241018T210000
SUMMARY:JHSO: Movie and TV Show Trivia (18-10-24)
DESCRIPTION:Movie and TV Show Trivia Kick off your weekend with an exciting Friday at Johnny’s Place for a Movie and TV Show Trivia Night. Immerse yourself in an evening of trivia, themed dining, and lively competition. Test your knowledge on your favourite films and shows while enjoying a menu inspired by iconic movie and TV moments. With delicious food, engaging questions, and enticing prizes, it’s the perfect way to start your weekend.
URL:https://www.johnnyh.com.au/products/jhso-movie-and-tv-show-trivia-18-10-24/
LOCATION:
END:VEVENT
END:VCALENDAR
