BEGIN:VCALENDAR
VERSION:2.0
PRODID:-//Johnny H Adventures
CALSCALE:GREGORIAN
METHOD:PUBLISH
X-WR-CALNAME:Johnny H Adventures
X-ORIGINAL-URL:https://www.johnnyh.com.au/products/jhda-shrek-the-musical-20-10-24/
X-WR-CALDESC:JHDA: Shrek the Musical (20-10-24)
BEGIN:VEVENT
DTSTART;TZID=Australia/Melbourne:20241020T090000
DTEND;TZID=Australia/Melbourne:20241020T160000
SUMMARY:JHDA: Shrek the Musical (20-10-24)
DESCRIPTION:Shrek the Musical Step into a world of fairy tale fun on a Sunday with Shrek The Musical at Riverside Theatres, Parramatta. Enjoy a lively and heartwarming performance of the beloved animated film brought to life on stage. With its vibrant characters, catchy tunes, and humorous storyline, this musical promises a delightful experience for the whole family.
URL:https://www.johnnyh.com.au/products/jhda-shrek-the-musical-20-10-24/
LOCATION:
END:VEVENT
END:VCALENDAR
