BEGIN:VCALENDAR
VERSION:2.0
PRODID:-//Johnny H Adventures
CALSCALE:GREGORIAN
METHOD:PUBLISH
X-WR-CALNAME:Johnny H Adventures
X-ORIGINAL-URL:https://www.johnnyh.com.au/products/jhso-spooky-saturday-halloween-bash-26-10-24/
X-WR-CALDESC:JHSO: Spooky Saturday: Halloween Bash (26.10.24)
BEGIN:VEVENT
DTSTART;TZID=Australia/Melbourne:20241026T160000
DTEND;TZID=Australia/Melbourne:20241026T210000
SUMMARY:JHSO: Spooky Saturday: Halloween Bash (26.10.24)
DESCRIPTION:Spooky Saturday: Halloween Bash Get ready for a spooktacular Saturday night at Johnny’s Place with our thrilling Halloween Party! Embrace the eerie and enchanting atmosphere as we transform Johnny’s Place into a haunted haven of frightful fun. With costumes, chilling decor, and a night full of ghoulishly good times, it’s the perfect way to celebrate Halloween with friends and fellow party-goers.
URL:https://www.johnnyh.com.au/products/jhso-spooky-saturday-halloween-bash-26-10-24/
LOCATION:
END:VEVENT
END:VCALENDAR
