BEGIN:VCALENDAR
VERSION:2.0
PRODID:-//Johnny H Adventures
CALSCALE:GREGORIAN
METHOD:PUBLISH
X-WR-CALNAME:Johnny H Adventures
X-ORIGINAL-URL:https://www.johnnyh.com.au/products/jhjp-term-4-life-skills-day-program-mondays-9am-4pm-30-09-16-12-24/
X-WR-CALDESC:JHJP: Term 4 Life Skills Day Program ~ Mondays 9am-4pm (30.09-16.12.24)
BEGIN:VEVENT
DTSTART;TZID=Australia/Melbourne:20241216T090000
DTEND;TZID=Australia/Melbourne:20241216T160000
SUMMARY:JHJP: Term 4 Life Skills Day Program ~ Mondays 9am-4pm (30.09-16.12.24)
DESCRIPTION:Term 4 Life Skills Day Program: Mondays Bookings are now open for Mondays in our Life Skills Day Program for Term 4. Monday morning our group will do work experience at the Raiders Club in Belconnen, setting up the bistro and restaurant ready for the days service. In the afternoon we head to Flip Out! for some physical activity before returning to Johnny's Place for independent living skills and practical DIY skills.
URL:https://www.johnnyh.com.au/products/jhjp-term-4-life-skills-day-program-mondays-9am-4pm-30-09-16-12-24/
LOCATION:
END:VEVENT
END:VCALENDAR
