BEGIN:VCALENDAR
VERSION:2.0
PRODID:-//Johnny H Adventures
CALSCALE:GREGORIAN
METHOD:PUBLISH
X-WR-CALNAME:Johnny H Adventures
X-ORIGINAL-URL:https://www.johnnyh.com.au/products/jhjp-term-4-life-skills-day-program-thursdays-9am-4pm-03-10-19-12-24/
X-WR-CALDESC:JHJP: Term 4 Life Skills Day Program Thursdays 9am-4pm (03.10-19.12.24)
BEGIN:VEVENT
DTSTART;TZID=Australia/Melbourne:20241219T090000
DTEND;TZID=Australia/Melbourne:20241219T160000
SUMMARY:JHJP: Term 4 Life Skills Day Program Thursdays 9am-4pm (03.10-19.12.24)
DESCRIPTION:Term 4 Life Skills Day Program: Thursdays Bookings are now open for Thursdays in our Life Skills Day Program for Term 4. On Thursday mornings, participants alternate between lessons at Johnny H and community access activities. This term, the focus is on managing emotions, performing domestic duties at the respite house in Narrabundah, and transport training in the community. On Thursday afternoons we head out to Jump Swim in Fyshwick to get our bodies moving with a swim lesson. After returning to Johnny's Place for afternoon tea, we learn about managing our money and mindfulness practices.
URL:https://www.johnnyh.com.au/products/jhjp-term-4-life-skills-day-program-thursdays-9am-4pm-03-10-19-12-24/
LOCATION:
END:VEVENT
END:VCALENDAR
