BEGIN:VCALENDAR
VERSION:2.0
PRODID:-//Johnny H Adventures
CALSCALE:GREGORIAN
METHOD:PUBLISH
X-WR-CALNAME:Johnny H Adventures
X-ORIGINAL-URL:https://www.johnnyh.com.au/products/jhjp-term-4-life-skills-day-program-fridays-9am-to-4pm-04-10-20-12-24/
X-WR-CALDESC:JHJP: Term 4 Life Skills Day Program Fridays 9am to 4pm (04.10-20.12.24)
BEGIN:VEVENT
DTSTART;TZID=Australia/Melbourne:20241212T090000
DTEND;TZID=Australia/Melbourne:20241212T160000
SUMMARY:JHJP: Term 4 Life Skills Day Program Fridays 9am to 4pm (04.10-20.12.24)
DESCRIPTION:Term 4 Life Skills Day Program: Fridays Bookings are now open for Fridays in our Life Skills Day Program for Term 4. On Friday mornings, participants begin by completing the shopping list before heading out to the shops for the weekly grocery shop. Afterwards, they return to Johnny's Place to cook a meal for all the staff and participants at the centre. We will spend time working on our literacy and numeracy skills in the afternoon. &nbsp; &nbsp;
URL:https://www.johnnyh.com.au/products/jhjp-term-4-life-skills-day-program-fridays-9am-to-4pm-04-10-20-12-24/
LOCATION:
END:VEVENT
END:VCALENDAR
