BEGIN:VCALENDAR
VERSION:2.0
PRODID:-//Johnny H Adventures
CALSCALE:GREGORIAN
METHOD:PUBLISH
X-WR-CALNAME:Johnny H Adventures
X-ORIGINAL-URL:https://www.johnnyh.com.au/products/jhda-tamborine-mountain-curtis-falls-and-the-botanical-gardens-14-09-24/
X-WR-CALDESC:JHDA: Tamborine Mountain: Curtis Falls and the Botanical Gardens (14.09.24)
BEGIN:VEVENT
DTSTART;TZID=Australia/Melbourne:20240914T090000
DTEND;TZID=Australia/Melbourne:20240914T140000
SUMMARY:JHDA: Tamborine Mountain: Curtis Falls and the Botanical Gardens (14.09.24)
DESCRIPTION:Tamborine Mountain: Curtis Falls and the Botanical Gardens Join us for a refreshing day trip to the Tamborine Mountains, where adventure and natural beauty await. Enjoy a scenic hike to Curtis Falls and explore the picturesque botanical gardens. This day offers a perfect blend of outdoor activity, relaxation, and stunning views.
URL:https://www.johnnyh.com.au/products/jhda-tamborine-mountain-curtis-falls-and-the-botanical-gardens-14-09-24/
LOCATION:
END:VEVENT
END:VCALENDAR
