BEGIN:VCALENDAR
VERSION:2.0
PRODID:-//Johnny H Adventures
CALSCALE:GREGORIAN
METHOD:PUBLISH
X-WR-CALNAME:Johnny H Adventures
X-ORIGINAL-URL:https://www.johnnyh.com.au/products/jhso-nrl-live-final-panthers-v-roosters-13-09-24/
X-WR-CALDESC:JHSO: NRL Live Final: Panthers v Roosters (13-09-24)
BEGIN:VEVENT
DTSTART;TZID=Australia/Melbourne:20240913T170000
DTEND;TZID=Australia/Melbourne:20240913T223000
SUMMARY:JHSO: NRL Live Final: Panthers v Roosters (13-09-24)
DESCRIPTION:NRL Live Final: Penrith Panthers v Sydney Roosters Get ready for an action-packed Friday night as the NRL live final takes centre stage at BlueBet Stadium! Join us for an unforgettable evening of top-tier rugby league as the Penrith Panthers face off against the Sydney Roosters.
URL:https://www.johnnyh.com.au/products/jhso-nrl-live-final-panthers-v-roosters-13-09-24/
LOCATION:
END:VEVENT
END:VCALENDAR
