BEGIN:VCALENDAR
VERSION:2.0
PRODID:-//Johnny H Adventures
CALSCALE:GREGORIAN
METHOD:PUBLISH
X-WR-CALNAME:Johnny H Adventures
X-ORIGINAL-URL:https://www.johnnyh.com.au/products/jhsa-friday-night-social-group-movies-venom-the-last-dance-dinner-25-10-24/
X-WR-CALDESC:JHSA: Friday Night Social Group: Movies &#8211; Venom: The Last Dance + Dinner (25.10.24)
BEGIN:VEVENT
DTSTART;TZID=Australia/Melbourne:20241025T160000
DTEND;TZID=Australia/Melbourne:20241025T210000
SUMMARY:JHSA: Friday Night Social Group: Movies – Venom: The Last Dance + Dinner (25.10.24)
DESCRIPTION:Friday Night Social Group: Movies - Venom: The Last Dance + Dinner Join us for a Friday night out at the movies to see Venom: The Last Dance, where Tom Hardy returns for the epic conclusion of one of Marvel's most complex characters. This final chapter in the trilogy promises action, suspense, and a thrilling ride as we watch the fierce symbiote battle it out one last time. After the movie, we’ll keep the fun going with dinner, making it a perfect night to relax, catch up, and enjoy great company.
URL:https://www.johnnyh.com.au/products/jhsa-friday-night-social-group-movies-venom-the-last-dance-dinner-25-10-24/
LOCATION:
END:VEVENT
END:VCALENDAR
