BEGIN:VCALENDAR
VERSION:2.0
PRODID:-//Johnny H Adventures
CALSCALE:GREGORIAN
METHOD:PUBLISH
X-WR-CALNAME:Johnny H Adventures
X-ORIGINAL-URL:https://www.johnnyh.com.au/products/jhsa-scram-escape-rooms-01-11-24/
X-WR-CALDESC:JHSA: Scram Escape Rooms (01-11-24)
BEGIN:VEVENT
DTSTART;TZID=Australia/Melbourne:20241101T170000
DTEND;TZID=Australia/Melbourne:20241101T210000
SUMMARY:JHSA: Scram Escape Rooms (01-11-24)
DESCRIPTION:Scram Escape Rooms Get ready for a thrilling Friday evening at Scram Escape Rooms in Penrith! Gather your friends for an adrenaline-pumping escape room challenge, followed by a delicious dinner to celebrate your victory (or close call!). It's the perfect combination of fun, teamwork, and food for an unforgettable night out.
URL:https://www.johnnyh.com.au/products/jhsa-scram-escape-rooms-01-11-24/
LOCATION:
END:VEVENT
END:VCALENDAR
