BEGIN:VCALENDAR
VERSION:2.0
PRODID:-//Johnny H Adventures
CALSCALE:GREGORIAN
METHOD:PUBLISH
X-WR-CALNAME:Johnny H Adventures
X-ORIGINAL-URL:https://www.johnnyh.com.au/products/jhda-sydney-by-boat-03-11-24/
X-WR-CALDESC:JHDA: Sydney by Boat (03-11-24)
BEGIN:VEVENT
DTSTART;TZID=Australia/Melbourne:20241103T090000
DTEND;TZID=Australia/Melbourne:20241103T170000
SUMMARY:JHDA: Sydney by Boat (03-11-24)
DESCRIPTION:Sydney by Boat Spend a relaxing Sunday exploring *Sydney by Boat*! Start your adventure at Parramatta Wharf and enjoy a scenic ferry ride down the Parramatta River, arriving at Circular Quay for morning tea. From there, hop on another ferry to Watsons Bay, Rose Bay, or Manly for a delightful lunch by the water. It’s the perfect day out to soak in Sydney’s stunning harbour views while indulging in delicious food.
URL:https://www.johnnyh.com.au/products/jhda-sydney-by-boat-03-11-24/
LOCATION:
END:VEVENT
END:VCALENDAR
