BEGIN:VCALENDAR
VERSION:2.0
PRODID:-//Johnny H Adventures
CALSCALE:GREGORIAN
METHOD:PUBLISH
X-WR-CALNAME:Johnny H Adventures
X-ORIGINAL-URL:https://www.johnnyh.com.au/products/jhso-johnny-h-formal-night-16-11-24/
X-WR-CALDESC:JHSO: Johnny H Formal Night (16.11.24)
BEGIN:VEVENT
DTSTART;TZID=Australia/Melbourne:20241116T160000
DTEND;TZID=Australia/Melbourne:20241116T210000
SUMMARY:JHSO: Johnny H Formal Night (16.11.24)
DESCRIPTION:Johnny H Formal Night Get ready for a spectacular Johnny H Formal Night! This enchanting evening promises an elegant atmosphere where everyone can dress to impress and celebrate in style. Enjoy a delicious three-course meal in a beautifully set dining area at Johnny H, followed by a lively party that will keep the fun going into the night.
URL:https://www.johnnyh.com.au/products/jhso-johnny-h-formal-night-16-11-24/
LOCATION:
END:VEVENT
END:VCALENDAR
