BEGIN:VCALENDAR
VERSION:2.0
PRODID:-//Johnny H Adventures
CALSCALE:GREGORIAN
METHOD:PUBLISH
X-WR-CALNAME:Johnny H Adventures
X-ORIGINAL-URL:https://www.johnnyh.com.au/products/jhsa-wicked-at-the-movies-22-11-24/
X-WR-CALDESC:JHSA: Wicked at the Movies (22-11-24)
BEGIN:VEVENT
DTSTART;TZID=Australia/Melbourne:20241122T170000
DTEND;TZID=Australia/Melbourne:20241122T220000
SUMMARY:JHSA: Wicked at the Movies (22-11-24)
DESCRIPTION:Wicked at the Movies Join us for a captivating Friday night at the cinema to see Wicked! This beloved musical tells the untold story of the witches of Oz and promises an evening filled with enchanting performances and unforgettable music.
URL:https://www.johnnyh.com.au/products/jhsa-wicked-at-the-movies-22-11-24/
LOCATION:
END:VEVENT
END:VCALENDAR
