BEGIN:VCALENDAR
VERSION:2.0
PRODID:-//Johnny H Adventures
CALSCALE:GREGORIAN
METHOD:PUBLISH
X-WR-CALNAME:Johnny H Adventures
X-ORIGINAL-URL:https://www.johnnyh.com.au/products/jhda-jamberoo-action-park-24-11-24/
X-WR-CALDESC:JHDA: Jamberoo Action Park (24-11-24)
BEGIN:VEVENT
DTSTART;TZID=Australia/Melbourne:20241124T080000
DTEND;TZID=Australia/Melbourne:20241124T180000
SUMMARY:JHDA: Jamberoo Action Park (24-11-24)
DESCRIPTION:Jamberoo Action Park Get ready for a splash-tastic Sunday at Jamberoo Action Park! This fun-filled outing takes you to one of Australia’s premier water and adventure parks, offering a day of excitement, relaxation, and adventure for everyone. It’s the perfect opportunity to bond with friends while enjoying thrilling rides and beautiful surroundings.
URL:https://www.johnnyh.com.au/products/jhda-jamberoo-action-park-24-11-24/
LOCATION:
END:VEVENT
END:VCALENDAR
