BEGIN:VCALENDAR
VERSION:2.0
PRODID:-//Johnny H Adventures
CALSCALE:GREGORIAN
METHOD:PUBLISH
X-WR-CALNAME:Johnny H Adventures
X-ORIGINAL-URL:https://www.johnnyh.com.au/products/jhda-the-ultimate-coastal-road-trip-30-11-24/
X-WR-CALDESC:JHDA: The Ultimate Coastal Road Trip (30-11-24)
BEGIN:VEVENT
DTSTART;TZID=Australia/Melbourne:20241130T080000
DTEND;TZID=Australia/Melbourne:20241130T180000
SUMMARY:JHDA: The Ultimate Coastal Road Trip (30-11-24)
DESCRIPTION:The Ultimate Coastal Road Trip Join us for The Ultimate Coastal Road Trip, a scenic and fun-filled day exploring some of the South Coast’s most beautiful spots. From beaches to blowholes and even whale watching, this is the perfect opportunity to enjoy the outdoors, relax with friends, and soak in the breathtaking coastal views.
URL:https://www.johnnyh.com.au/products/jhda-the-ultimate-coastal-road-trip-30-11-24/
LOCATION:
END:VEVENT
END:VCALENDAR
