BEGIN:VCALENDAR
VERSION:2.0
PRODID:-//Johnny H Adventures
CALSCALE:GREGORIAN
METHOD:PUBLISH
X-WR-CALNAME:Johnny H Adventures
X-ORIGINAL-URL:https://www.johnnyh.com.au/products/jhda-sydney-motorsport-park-jayden-ojeda-17-10-24/
X-WR-CALDESC:JHDA: Sydney Motorsport Park + Jayden Ojeda (17-10-24)
BEGIN:VEVENT
DTSTART;TZID=Australia/Melbourne:20241017T090000
DTEND;TZID=Australia/Melbourne:20241017T170000
SUMMARY:JHDA: Sydney Motorsport Park + Jayden Ojeda (17-10-24)
DESCRIPTION:Sydney Motorsport Park + Jayden Ojeda Rev up your engines for an adrenaline-packed day out at Sydney Motorsport Park! Whether you’re a car enthusiast or just looking for a thrilling day of excitement, this outing offers a unique experience at one of Australia’s premier motorsport venues. From exploring the pits with race car driver and Johnny H ambassador Jayden Ojeda to watching high-speed races, it’s the perfect day out for racing fans and thrill-seekers alike.
URL:https://www.johnnyh.com.au/products/jhda-sydney-motorsport-park-jayden-ojeda-17-10-24/
LOCATION:
END:VEVENT
END:VCALENDAR
