BEGIN:VCALENDAR
VERSION:2.0
PRODID:-//Johnny H Adventures
CALSCALE:GREGORIAN
METHOD:PUBLISH
X-WR-CALNAME:Johnny H Adventures
X-ORIGINAL-URL:https://www.johnnyh.com.au/products/jhsa-friday-night-social-group-infinity-surfers-paradise-and-dinner-01-11-24/
X-WR-CALDESC:JHSA: Friday Night Social Group: Infinity Surfers Paradise and Dinner (01.11.24)
BEGIN:VEVENT
DTSTART;TZID=Australia/Melbourne:20241101T160000
DTEND;TZID=Australia/Melbourne:20241101T210000
SUMMARY:JHSA: Friday Night Social Group: Infinity Surfers Paradise and Dinner (01.11.24)
DESCRIPTION:Friday Night Social Group: Infinity Surfers Paradise and Dinner Enjoy a vibrant Friday evening out at Infinity Surfers Paradise followed by a delightful dinner, combining entertainment and culinary indulgence in Surfers Paradise.
URL:https://www.johnnyh.com.au/products/jhsa-friday-night-social-group-infinity-surfers-paradise-and-dinner-01-11-24/
LOCATION:
END:VEVENT
END:VCALENDAR
