BEGIN:VCALENDAR
VERSION:2.0
PRODID:-//Johnny H Adventures
CALSCALE:GREGORIAN
METHOD:PUBLISH
X-WR-CALNAME:Johnny H Adventures
X-ORIGINAL-URL:https://www.johnnyh.com.au/products/jhda-murwillumbah-show-02-11-24/
X-WR-CALDESC:JHDA: Murwillumbah Show (02.11.24)
BEGIN:VEVENT
DTSTART;TZID=Australia/Melbourne:20241102T090000
DTEND;TZID=Australia/Melbourne:20241102T140000
SUMMARY:JHDA: Murwillumbah Show (02.11.24)
DESCRIPTION:Murwillumbah Show Join us for a fun-filled day at the Murwillumbah Show, a fantastic celebration of country life, culture, and entertainment. Whether you’re a fan of agriculture, rides, or live music, there’s something for everyone to enjoy at this beloved local event!
URL:https://www.johnnyh.com.au/products/jhda-murwillumbah-show-02-11-24/
LOCATION:
END:VEVENT
END:VCALENDAR
