BEGIN:VCALENDAR
VERSION:2.0
PRODID:-//Johnny H Adventures
CALSCALE:GREGORIAN
METHOD:PUBLISH
X-WR-CALNAME:Johnny H Adventures
X-ORIGINAL-URL:https://www.johnnyh.com.au/products/jhsa-friday-night-social-group-the-park-coomera-and-dinner-08-11-24/
X-WR-CALDESC:JHSA: Friday Night Social Group: The Park Coomera and Dinner (08.11.24)
BEGIN:VEVENT
DTSTART;TZID=Australia/Melbourne:20241108T160000
DTEND;TZID=Australia/Melbourne:20241108T210000
SUMMARY:JHSA: Friday Night Social Group: The Park Coomera and Dinner (08.11.24)
DESCRIPTION:Friday Night Social Group: The Park Coomera and Dinner Join us for a fantastic Friday night social outing at The Park Coomera, where we'll have the flexibility to choose between bowling, mini golf, or karaoke—whatever strikes our fancy! Located conveniently for everyone, The Park offers a variety of activities that promise fun and excitement for all.
URL:https://www.johnnyh.com.au/products/jhsa-friday-night-social-group-the-park-coomera-and-dinner-08-11-24/
LOCATION:
END:VEVENT
END:VCALENDAR
