BEGIN:VCALENDAR
VERSION:2.0
PRODID:-//Johnny H Adventures
CALSCALE:GREGORIAN
METHOD:PUBLISH
X-WR-CALNAME:Johnny H Adventures
X-ORIGINAL-URL:https://www.johnnyh.com.au/products/jhsa-friday-night-social-group-movies-and-dinner-22-11-24/
X-WR-CALDESC:JHSA: Friday Night Social Group: Movies and Dinner (22.11.24)
BEGIN:VEVENT
DTSTART;TZID=Australia/Melbourne:20241122T160000
DTEND;TZID=Australia/Melbourne:20241122T210000
SUMMARY:JHSA: Friday Night Social Group: Movies and Dinner (22.11.24)
DESCRIPTION:Friday Night Social Group: Movies and Dinner Enjoy a relaxing and fun-filled Friday night at the cinema with a movie of your choice, followed by a delicious dinner with friends. This is the perfect way to wind down the week and immerse yourself in a blockbuster, comedy, or whatever you're in the mood for, before indulging in a tasty meal together.
URL:https://www.johnnyh.com.au/products/jhsa-friday-night-social-group-movies-and-dinner-22-11-24/
LOCATION:
END:VEVENT
END:VCALENDAR
