BEGIN:VCALENDAR
VERSION:2.0
PRODID:-//Johnny H Adventures
CALSCALE:GREGORIAN
METHOD:PUBLISH
X-WR-CALNAME:Johnny H Adventures
X-ORIGINAL-URL:https://www.johnnyh.com.au/products/jhda-fishing-and-bbq-24-11-24/
X-WR-CALDESC:JHDA: Fishing and BBQ (24.11.24)
BEGIN:VEVENT
DTSTART;TZID=Australia/Melbourne:20241124T090000
DTEND;TZID=Australia/Melbourne:20241124T140000
SUMMARY:JHDA: Fishing and BBQ (24.11.24)
DESCRIPTION:Fishing and BBQ Join us for a relaxing Sunday out fishing at one of the Gold Coast's picturesque rivers or creeks for a day of leisure and socialising in a small group setting.
URL:https://www.johnnyh.com.au/products/jhda-fishing-and-bbq-24-11-24/
LOCATION:
END:VEVENT
END:VCALENDAR
